BEGIN:VCALENDAR
VERSION:2.0
PRODID:spatie/icalendar-generator
DESCRIPTION:Veranstaltungen von Dr. Höfer
X-WR-CALDESC:Veranstaltungen von Dr. Höfer
REFRESH-INTERVAL;VALUE=DURATION:PT1440M
X-PUBLISHED-TTL:PT1440M
BEGIN:VTIMEZONE
TZID:Etc/GMT+0
BEGIN:STANDARD
DTSTART:20250711T000000Z
TZOFFSETFROM:+0000
TZOFFSETTO:+0000
END:STANDARD
END:VTIMEZONE
BEGIN:VTIMEZONE
TZID:UTC
BEGIN:STANDARD
DTSTART:20250724T091114Z
TZOFFSETFROM:+0000
TZOFFSETTO:+0000
END:STANDARD
END:VTIMEZONE
BEGIN:VEVENT
UID:6-5
DTSTAMP:20260420T091114Z
SUMMARY:Osterurlaub
LOCATION:
ORGANIZER;CN=Weber:MAILTO:Praxismarketing@dr-hoefer.de
DTSTART;TZID=Etc/GMT+0;VALUE=DATE:20260407
DTEND;TZID=Etc/GMT+0;VALUE=DATE:20260411
X-ALT-DESC;FMTTYPE=TEXT/HTML:Die Praxis bleibt vom 07.04. - 10.04.26 geschl
 ossen. Die Vertretung für diesen Zeitraum übernimmt die Zahnarztpraxis G
 ödecke Lotter Straße 122a\, 49078 Osnabrück Tel. Nr. 0541 – 41118
CATEGORIES:General
URL;VALUE=URI:https://dr-hoefer.de/mc-events/osterurlaub-2/
METHOD:PUBLISH
END:VEVENT
END:VCALENDAR