BEGIN:VCALENDAR
VERSION:2.0
PRODID:spatie/icalendar-generator
DESCRIPTION:Veranstaltungen von Dr. Höfer
X-WR-CALDESC:Veranstaltungen von Dr. Höfer
REFRESH-INTERVAL;VALUE=DURATION:PT1440M
X-PUBLISHED-TTL:PT1440M
BEGIN:VTIMEZONE
TZID:Etc/GMT+0
BEGIN:STANDARD
DTSTART:20250515T000000Z
TZOFFSETFROM:+0000
TZOFFSETTO:+0000
END:STANDARD
END:VTIMEZONE
BEGIN:VTIMEZONE
TZID:UTC
BEGIN:STANDARD
DTSTART:20250726T090402Z
TZOFFSETFROM:+0000
TZOFFSETTO:+0000
END:STANDARD
END:VTIMEZONE
BEGIN:VEVENT
UID:7-3
DTSTAMP:20260422T090402Z
SUMMARY:Urlaub
LOCATION:
ORGANIZER;CN=Weber:MAILTO:Praxismarketing@dr-hoefer.de
DTSTART;TZID=Etc/GMT+0;VALUE=DATE:20260209
DTEND;TZID=Etc/GMT+0;VALUE=DATE:20260211
X-ALT-DESC;FMTTYPE=TEXT/HTML:Unsere Praxis bleibt am 09.02. + 10.02.26 gesc
 hlossen. Die Vertretung übernimmt die Zahnarztpraxis Dr. Hörnschemeyer L
 otter Str. 75\,  49078 Osnabrück Tel. Nr. 0541 - 409 62 00
CATEGORIES:General
URL;VALUE=URI:https://dr-hoefer.de/mc-events/urlaub/
METHOD:PUBLISH
END:VEVENT
END:VCALENDAR